BEGIN:VCALENDAR
VERSION:2.0
PRODID:-//Oregon Coast Learning Institute - ECPv6.15.20//NONSGML v1.0//EN
CALSCALE:GREGORIAN
METHOD:PUBLISH
X-WR-CALNAME:Oregon Coast Learning Institute
X-ORIGINAL-URL:https://www.ocli.us
X-WR-CALDESC:Events for Oregon Coast Learning Institute
REFRESH-INTERVAL;VALUE=DURATION:PT1H
X-Robots-Tag:noindex
X-PUBLISHED-TTL:PT1H
BEGIN:VTIMEZONE
TZID:America/Los_Angeles
BEGIN:DAYLIGHT
TZOFFSETFROM:-0800
TZOFFSETTO:-0700
TZNAME:PDT
DTSTART:20240310T100000
END:DAYLIGHT
BEGIN:STANDARD
TZOFFSETFROM:-0700
TZOFFSETTO:-0800
TZNAME:PST
DTSTART:20241103T090000
END:STANDARD
BEGIN:DAYLIGHT
TZOFFSETFROM:-0800
TZOFFSETTO:-0700
TZNAME:PDT
DTSTART:20250309T100000
END:DAYLIGHT
BEGIN:STANDARD
TZOFFSETFROM:-0700
TZOFFSETTO:-0800
TZNAME:PST
DTSTART:20251102T090000
END:STANDARD
BEGIN:DAYLIGHT
TZOFFSETFROM:-0800
TZOFFSETTO:-0700
TZNAME:PDT
DTSTART:20260308T100000
END:DAYLIGHT
BEGIN:STANDARD
TZOFFSETFROM:-0700
TZOFFSETTO:-0800
TZNAME:PST
DTSTART:20261101T090000
END:STANDARD
END:VTIMEZONE
BEGIN:VEVENT
DTSTART;TZID=America/Los_Angeles:20250930T093000
DTEND;TZID=America/Los_Angeles:20250930T105000
DTSTAMP:20260423T201255
CREATED:20250506T184143Z
LAST-MODIFIED:20250506T184143Z
UID:2099-1759224600-1759229400@www.ocli.us
SUMMARY:Confederation of Tribes Siletz Indian
DESCRIPTION:A J Warren
URL:https://www.ocli.us/index.php/event/confederation-of-tribes-siletz-indian/
END:VEVENT
BEGIN:VEVENT
DTSTART;TZID=America/Los_Angeles:20250930T111000
DTEND;TZID=America/Los_Angeles:20250930T123000
DTSTAMP:20260423T201255
CREATED:20250506T184256Z
LAST-MODIFIED:20250909T215936Z
UID:2101-1759230600-1759235400@www.ocli.us
SUMMARY:OSU Wave Project
DESCRIPTION:Dan Henlin\n\nThe OSU Wave Project is not a single project but refers to Oregon State University’s extensive work in wave research\, including its O.H. Hinsdale Wave Research Laboratory for physical modeling and the PacWave project\, a grid-connected\, open-ocean testing facility for wave energy developers off the Oregon coast. The lab conducts research on coastal processes and tsunami mitigation\, while PacWave provides infrastructure for companies to test new wave energy technologies and assess their commercial viability.\n\n 
URL:https://www.ocli.us/index.php/event/first-mexicans-in-lincoln-county/
END:VEVENT
END:VCALENDAR