BEGIN:VCALENDAR
VERSION:2.0
PRODID:-//Oregon Coast Learning Institute - ECPv6.15.20//NONSGML v1.0//EN
CALSCALE:GREGORIAN
METHOD:PUBLISH
X-WR-CALNAME:Oregon Coast Learning Institute
X-ORIGINAL-URL:https://www.ocli.us
X-WR-CALDESC:Events for Oregon Coast Learning Institute
REFRESH-INTERVAL;VALUE=DURATION:PT1H
X-Robots-Tag:noindex
X-PUBLISHED-TTL:PT1H
BEGIN:VTIMEZONE
TZID:America/Los_Angeles
BEGIN:DAYLIGHT
TZOFFSETFROM:-0800
TZOFFSETTO:-0700
TZNAME:PDT
DTSTART:20250309T100000
END:DAYLIGHT
BEGIN:STANDARD
TZOFFSETFROM:-0700
TZOFFSETTO:-0800
TZNAME:PST
DTSTART:20251102T090000
END:STANDARD
BEGIN:DAYLIGHT
TZOFFSETFROM:-0800
TZOFFSETTO:-0700
TZNAME:PDT
DTSTART:20260308T100000
END:DAYLIGHT
BEGIN:STANDARD
TZOFFSETFROM:-0700
TZOFFSETTO:-0800
TZNAME:PST
DTSTART:20261101T090000
END:STANDARD
BEGIN:DAYLIGHT
TZOFFSETFROM:-0800
TZOFFSETTO:-0700
TZNAME:PDT
DTSTART:20270314T100000
END:DAYLIGHT
BEGIN:STANDARD
TZOFFSETFROM:-0700
TZOFFSETTO:-0800
TZNAME:PST
DTSTART:20271107T090000
END:STANDARD
END:VTIMEZONE
BEGIN:VEVENT
DTSTART;TZID=America/Los_Angeles:20260203T093000
DTEND;TZID=America/Los_Angeles:20260203T111000
DTSTAMP:20260423T142418
CREATED:20251112T013216Z
LAST-MODIFIED:20251220T193350Z
UID:2229-1770111000-1770117000@www.ocli.us
SUMMARY:“Three Brains Walk Into a Café: One Hears\, One Sees\, One Feels…”
DESCRIPTION:David Jordan\nThree brains walk into a café—no\, it’s not the start of a neuroscience joke\, though it could be. One’s eavesdropping on espresso orders\, another’s scanning the latte art like it’s a Rorschach test\, and the third is busy feeling the existential weight of a biscotti. Together\, they sip\, squabble\, and try to make sense of the world—each convinced their way is the only way to taste reality. Welcome to the café of perception\, where the menu is sensory and the debates are delightfully neurotic.
URL:https://www.ocli.us/index.php/event/three-brains-walk-into-a-cafe-one-hears-one-sees-one-feels/
END:VEVENT
BEGIN:VEVENT
DTSTART;TZID=America/Los_Angeles:20260203T111000
DTEND;TZID=America/Los_Angeles:20260203T123000
DTSTAMP:20260423T142418
CREATED:20251221T024847Z
LAST-MODIFIED:20251222T222639Z
UID:2264-1770117000-1770121800@www.ocli.us
SUMMARY:Swifty (Swallows in Flight to Yachats)
DESCRIPTION:James Welch\nSWIFTY—Swallows in Flight to Yachats—is a passionate volunteer group dedicated to giving our local birds a fighting chance. From their home base in Yachats\, volunteers build\, install\, and carefully monitor nest boxes for ducks\, owls\, songbirds\, and especially the swallow family. \nTheir impact is impressive: more than 250 nest boxes now support Tree and Violet-green Swallows\, and another 90 boxes provide crucial habitat for Purple Martins. \nIn this illustrated talk\, you’ll be invited into the hidden world of these remarkable species—their ecology\, their nesting behaviors\, and the powerful role that thoughtfully placed nest boxes play in their survival. You’ll also learn about the growing challenges these birds face\, from shifting climate patterns to habitat loss\, and how community action can make a real difference. \nThe presentation will conclude with highlights from this year’s monitoring results\, offering an inside look at what’s working\, what’s changing\, and how WIFTY’s efforts are helping our local bird populations take flight. \nBIO: Jim Welch bought a home on the Oregon coast in 2016 when he retired from the renewable energy industry in Colorado. As a lifelong environmentalist\, he has been active in conservation related projects in the area. Besides co-founding SWIFTY\, he established Yachats annual environmental festival\, Wild Things\, where kids and families learn to enjoy and protect our treasured coastline and its wildlife. He is currently serving as a board member for the Seven Capes Bird Alliance and is in the process of getting the City of Yachats certified as one of the first “Bird Cities” in the state.   \n  \n 
URL:https://www.ocli.us/index.php/event/swifty-swallows-in-flight-to-yachats/
END:VEVENT
END:VCALENDAR