BEGIN:VCALENDAR
VERSION:2.0
PRODID:-//Oregon Coast Learning Institute - ECPv6.15.20//NONSGML v1.0//EN
CALSCALE:GREGORIAN
METHOD:PUBLISH
X-WR-CALNAME:Oregon Coast Learning Institute
X-ORIGINAL-URL:https://www.ocli.us
X-WR-CALDESC:Events for Oregon Coast Learning Institute
REFRESH-INTERVAL;VALUE=DURATION:PT1H
X-Robots-Tag:noindex
X-PUBLISHED-TTL:PT1H
BEGIN:VTIMEZONE
TZID:America/Los_Angeles
BEGIN:DAYLIGHT
TZOFFSETFROM:-0800
TZOFFSETTO:-0700
TZNAME:PDT
DTSTART:20250309T100000
END:DAYLIGHT
BEGIN:STANDARD
TZOFFSETFROM:-0700
TZOFFSETTO:-0800
TZNAME:PST
DTSTART:20251102T090000
END:STANDARD
BEGIN:DAYLIGHT
TZOFFSETFROM:-0800
TZOFFSETTO:-0700
TZNAME:PDT
DTSTART:20260308T100000
END:DAYLIGHT
BEGIN:STANDARD
TZOFFSETFROM:-0700
TZOFFSETTO:-0800
TZNAME:PST
DTSTART:20261101T090000
END:STANDARD
BEGIN:DAYLIGHT
TZOFFSETFROM:-0800
TZOFFSETTO:-0700
TZNAME:PDT
DTSTART:20270314T100000
END:DAYLIGHT
BEGIN:STANDARD
TZOFFSETFROM:-0700
TZOFFSETTO:-0800
TZNAME:PST
DTSTART:20271107T090000
END:STANDARD
END:VTIMEZONE
BEGIN:VEVENT
DTSTART;TZID=America/Los_Angeles:20260310T093000
DTEND;TZID=America/Los_Angeles:20260310T225000
DTSTAMP:20260423T123537
CREATED:20251222T222812Z
LAST-MODIFIED:20251224T050050Z
UID:2279-1773135000-1773183000@www.ocli.us
SUMMARY:Newport Symphony: Shakespeare
DESCRIPTION:Don Howard\nShakespeare’s effect on the world is profound! We are aware of the impact on writers\, actors\, and others but what about his impact on music? Whether it’s musicians writing music to accompany specific plays\, or unique music inspired by his writing\, Shakespeare’s words have opened musical doors that thrill our imagination!
URL:https://www.ocli.us/index.php/event/newport-symphony-shakespeare/
END:VEVENT
BEGIN:VEVENT
DTSTART;TZID=America/Los_Angeles:20260310T111000
DTEND;TZID=America/Los_Angeles:20260310T123000
DTSTAMP:20260423T123537
CREATED:20260108T223156Z
LAST-MODIFIED:20260223T181458Z
UID:2329-1773141000-1773145800@www.ocli.us
SUMMARY:Remarkable (Mostly) Unknown Women of Science
DESCRIPTION:Nancy Nila\n \nCommon terminology we toss around today—Vitamin B12\, insulin\, penicillin\, GPS\, solar energy—has one powerful thread running through it: extraordinary women. \nBehind these everyday breakthroughs are innovators who challenged the limits of their time\, rewrote scientific possibilities\, and quietly reshaped the world we now take for granted. \nJoin us for a lively\, eye‑opening session where we uncover the stories behind these discoveries and many more. Come meet the women whose curiosity\, brilliance\, and persistence changed the course of history—and be inspired by the legacy they’ve left for all of us.
URL:https://www.ocli.us/index.php/event/remarkable-mostly-unknown-women-of-science/
END:VEVENT
END:VCALENDAR