BEGIN:VCALENDAR
VERSION:2.0
PRODID:-//Oregon Coast Learning Institute - ECPv6.15.20//NONSGML v1.0//EN
CALSCALE:GREGORIAN
METHOD:PUBLISH
X-WR-CALNAME:Oregon Coast Learning Institute
X-ORIGINAL-URL:https://www.ocli.us
X-WR-CALDESC:Events for Oregon Coast Learning Institute
REFRESH-INTERVAL;VALUE=DURATION:PT1H
X-Robots-Tag:noindex
X-PUBLISHED-TTL:PT1H
BEGIN:VTIMEZONE
TZID:America/Los_Angeles
BEGIN:DAYLIGHT
TZOFFSETFROM:-0800
TZOFFSETTO:-0700
TZNAME:PDT
DTSTART:20250309T100000
END:DAYLIGHT
BEGIN:STANDARD
TZOFFSETFROM:-0700
TZOFFSETTO:-0800
TZNAME:PST
DTSTART:20251102T090000
END:STANDARD
BEGIN:DAYLIGHT
TZOFFSETFROM:-0800
TZOFFSETTO:-0700
TZNAME:PDT
DTSTART:20260308T100000
END:DAYLIGHT
BEGIN:STANDARD
TZOFFSETFROM:-0700
TZOFFSETTO:-0800
TZNAME:PST
DTSTART:20261101T090000
END:STANDARD
BEGIN:DAYLIGHT
TZOFFSETFROM:-0800
TZOFFSETTO:-0700
TZNAME:PDT
DTSTART:20270314T100000
END:DAYLIGHT
BEGIN:STANDARD
TZOFFSETFROM:-0700
TZOFFSETTO:-0800
TZNAME:PST
DTSTART:20271107T090000
END:STANDARD
END:VTIMEZONE
BEGIN:VEVENT
DTSTART;TZID=America/Los_Angeles:20260317T093000
DTEND;TZID=America/Los_Angeles:20260317T105000
DTSTAMP:20260423T123046
CREATED:20260122T175656Z
LAST-MODIFIED:20260124T235135Z
UID:2345-1773739800-1773744600@www.ocli.us
SUMMARY:“Bird-Friendly Natural Vegetation”
DESCRIPTION:Cheri Rice\nOur coastal gardens can be homes and refuges for many species of birds. By planting natural vegetation we are extending an invitation to our feathered friends to visit our yards\, gardens\, decks and patios.  There are many bird friendly trees\, shrubs\, perennials and annuals that meet that need.  We will talk about several types that are readily available in our area. \nIncluded with the visual presentation will be a list of plants for our area and some local resources for acquiring them.
URL:https://www.ocli.us/index.php/event/bird-friendly-natural-vegetation/
END:VEVENT
BEGIN:VEVENT
DTSTART;TZID=America/Los_Angeles:20260317T111000
DTEND;TZID=America/Los_Angeles:20260317T123000
DTSTAMP:20260423T123046
CREATED:20251230T003753Z
LAST-MODIFIED:20251230T180526Z
UID:2303-1773745800-1773750600@www.ocli.us
SUMMARY:The Family That Preys Together
DESCRIPTION:Robert Pitman\nProfessor Fisheries\, Wildlife\, & Conservation Sciences\n \nMarine Mammal Institute Oregon State University
URL:https://www.ocli.us/index.php/event/orcas-around-the-world/
END:VEVENT
END:VCALENDAR