BEGIN:VCALENDAR
VERSION:2.0
PRODID:-//Oregon Coast Learning Institute - ECPv6.15.20//NONSGML v1.0//EN
CALSCALE:GREGORIAN
METHOD:PUBLISH
X-ORIGINAL-URL:https://www.ocli.us
X-WR-CALDESC:Events for Oregon Coast Learning Institute
REFRESH-INTERVAL;VALUE=DURATION:PT1H
X-Robots-Tag:noindex
X-PUBLISHED-TTL:PT1H
BEGIN:VTIMEZONE
TZID:America/Los_Angeles
BEGIN:DAYLIGHT
TZOFFSETFROM:-0800
TZOFFSETTO:-0700
TZNAME:PDT
DTSTART:20250309T100000
END:DAYLIGHT
BEGIN:STANDARD
TZOFFSETFROM:-0700
TZOFFSETTO:-0800
TZNAME:PST
DTSTART:20251102T090000
END:STANDARD
BEGIN:DAYLIGHT
TZOFFSETFROM:-0800
TZOFFSETTO:-0700
TZNAME:PDT
DTSTART:20260308T100000
END:DAYLIGHT
BEGIN:STANDARD
TZOFFSETFROM:-0700
TZOFFSETTO:-0800
TZNAME:PST
DTSTART:20261101T090000
END:STANDARD
BEGIN:DAYLIGHT
TZOFFSETFROM:-0800
TZOFFSETTO:-0700
TZNAME:PDT
DTSTART:20270314T100000
END:DAYLIGHT
BEGIN:STANDARD
TZOFFSETFROM:-0700
TZOFFSETTO:-0800
TZNAME:PST
DTSTART:20271107T090000
END:STANDARD
END:VTIMEZONE
BEGIN:VEVENT
DTSTART;TZID=America/Los_Angeles:20260324T093000
DTEND;TZID=America/Los_Angeles:20260324T105000
DTSTAMP:20260423T122807
CREATED:20260226T224555Z
LAST-MODIFIED:20260226T224555Z
UID:2387-1774344600-1774349400@www.ocli.us
SUMMARY:People\, Ideas\, Events: OCLI History
DESCRIPTION:Paul Brookhyser
URL:https://www.ocli.us/index.php/event/people-ideas-events-ocli-history/
END:VEVENT
BEGIN:VEVENT
DTSTART;TZID=America/Los_Angeles:20260324T111000
DTEND;TZID=America/Los_Angeles:20260324T123000
DTSTAMP:20260423T122807
CREATED:20260226T224825Z
LAST-MODIFIED:20260226T224825Z
UID:2389-1774350600-1774355400@www.ocli.us
SUMMARY:Annual Meeting/Lunch
DESCRIPTION:End of Semester\nAnnual meeting   Creative and Tasty Potluck
URL:https://www.ocli.us/index.php/event/annual-meeting-lunch/
END:VEVENT
END:VCALENDAR