BEGIN:VCALENDAR
VERSION:2.0
PRODID:-//Oregon Coast Learning Institute - ECPv6.15.20//NONSGML v1.0//EN
CALSCALE:GREGORIAN
METHOD:PUBLISH
X-WR-CALNAME:Oregon Coast Learning Institute
X-ORIGINAL-URL:https://www.ocli.us
X-WR-CALDESC:Events for Oregon Coast Learning Institute
REFRESH-INTERVAL;VALUE=DURATION:PT1H
X-Robots-Tag:noindex
X-PUBLISHED-TTL:PT1H
BEGIN:VTIMEZONE
TZID:America/Los_Angeles
BEGIN:DAYLIGHT
TZOFFSETFROM:-0800
TZOFFSETTO:-0700
TZNAME:PDT
DTSTART:20250309T100000
END:DAYLIGHT
BEGIN:STANDARD
TZOFFSETFROM:-0700
TZOFFSETTO:-0800
TZNAME:PST
DTSTART:20251102T090000
END:STANDARD
BEGIN:DAYLIGHT
TZOFFSETFROM:-0800
TZOFFSETTO:-0700
TZNAME:PDT
DTSTART:20260308T100000
END:DAYLIGHT
BEGIN:STANDARD
TZOFFSETFROM:-0700
TZOFFSETTO:-0800
TZNAME:PST
DTSTART:20261101T090000
END:STANDARD
BEGIN:DAYLIGHT
TZOFFSETFROM:-0800
TZOFFSETTO:-0700
TZNAME:PDT
DTSTART:20270314T100000
END:DAYLIGHT
BEGIN:STANDARD
TZOFFSETFROM:-0700
TZOFFSETTO:-0800
TZNAME:PST
DTSTART:20271107T090000
END:STANDARD
END:VTIMEZONE
BEGIN:VEVENT
DTSTART;TZID=America/Los_Angeles:20260908T093000
DTEND;TZID=America/Los_Angeles:20260908T105000
DTSTAMP:20260423T105404
CREATED:20260328T021422Z
LAST-MODIFIED:20260328T021429Z
UID:2426-1788859800-1788864600@www.ocli.us
SUMMARY:“Adak Alaska" …A revisit - Jenni Remillard\, Presenter
DESCRIPTION:Jenni Gemillard\nThe presentation\, titled “Adak Alaska” …A Revisit to the past with Dad\,” will reflect on a return journey to Adak\, where the speaker’s father was stationed during the Cold War era.
URL:https://www.ocli.us/index.php/event/adak-alaska-a-revisit-jenni-remillard-presenter/
END:VEVENT
BEGIN:VEVENT
DTSTART;TZID=America/Los_Angeles:20260908T111000
DTEND;TZID=America/Los_Angeles:20260908T123000
DTSTAMP:20260423T105404
CREATED:20260326T234119Z
LAST-MODIFIED:20260327T190425Z
UID:2414-1788865800-1788870600@www.ocli.us
SUMMARY:All the Empty Rooms - Steve Hartman   -  Ric Neese\, Presenter
DESCRIPTION:Ric Neese\nIn this interview from CBS Mornings\, correspondent Steve Hartman and director Joshua Seftel discuss their Oscar-winning documentary short\, All the Empty Rooms. The film memorializes children killed in school shootings by documenting the bedrooms they left behind—spaces preserved by their families as “sacred memorials.” \n\n\n\nBreaking the Cycle of Numbness: Hartman reveals he started the project because he felt himself—and the country—becoming “numb” to the frequency of school shootings. He wanted to find a new “entry point” to shake people out of that acceptance
URL:https://www.ocli.us/index.php/event/all-the-empty-rooms-steve-harman-presented-by-ric-neese/
END:VEVENT
END:VCALENDAR