BEGIN:VCALENDAR
VERSION:2.0
PRODID:-//Oregon Coast Learning Institute - ECPv6.15.20//NONSGML v1.0//EN
CALSCALE:GREGORIAN
METHOD:PUBLISH
X-WR-CALNAME:Oregon Coast Learning Institute
X-ORIGINAL-URL:https://www.ocli.us
X-WR-CALDESC:Events for Oregon Coast Learning Institute
REFRESH-INTERVAL;VALUE=DURATION:PT1H
X-Robots-Tag:noindex
X-PUBLISHED-TTL:PT1H
BEGIN:VTIMEZONE
TZID:America/Los_Angeles
BEGIN:DAYLIGHT
TZOFFSETFROM:-0800
TZOFFSETTO:-0700
TZNAME:PDT
DTSTART:20250309T100000
END:DAYLIGHT
BEGIN:STANDARD
TZOFFSETFROM:-0700
TZOFFSETTO:-0800
TZNAME:PST
DTSTART:20251102T090000
END:STANDARD
BEGIN:DAYLIGHT
TZOFFSETFROM:-0800
TZOFFSETTO:-0700
TZNAME:PDT
DTSTART:20260308T100000
END:DAYLIGHT
BEGIN:STANDARD
TZOFFSETFROM:-0700
TZOFFSETTO:-0800
TZNAME:PST
DTSTART:20261101T090000
END:STANDARD
BEGIN:DAYLIGHT
TZOFFSETFROM:-0800
TZOFFSETTO:-0700
TZNAME:PDT
DTSTART:20270314T100000
END:DAYLIGHT
BEGIN:STANDARD
TZOFFSETFROM:-0700
TZOFFSETTO:-0800
TZNAME:PST
DTSTART:20271107T090000
END:STANDARD
END:VTIMEZONE
BEGIN:VEVENT
DTSTART;TZID=America/Los_Angeles:20260915T093000
DTEND;TZID=America/Los_Angeles:20260915T105000
DTSTAMP:20260423T140401
CREATED:20260327T190258Z
LAST-MODIFIED:20260327T190439Z
UID:2418-1789464600-1789469400@www.ocli.us
SUMMARY:“Stand Up & Stay Strong” -  Brenda Luntzel\, Presenter
DESCRIPTION:Brenda Luntzel
URL:https://www.ocli.us/index.php/event/stand-up-stay-strong-brenda-luntzel-presenter/
END:VEVENT
BEGIN:VEVENT
DTSTART;TZID=America/Los_Angeles:20260915T111000
DTEND;TZID=America/Los_Angeles:20260915T123000
DTSTAMP:20260423T140401
CREATED:20260402T020351Z
LAST-MODIFIED:20260402T020622Z
UID:2438-1789470600-1789475400@www.ocli.us
SUMMARY:Fun with Composers who Monetize  -   Dan Howard\, Presenter
DESCRIPTION:Dan Howard\n“I’m very ambitious\,” Howard said. “I aim high.” \nTall\, buoyant and informal\, with a disarming smile and rapid-fire way of speaking\, Dan will create an exciting presentation of “Fun with Composers who Monetize.” This promises to be a “Don’t miss\,” event.
URL:https://www.ocli.us/index.php/event/fun-with-composers-who-monetize-dan-howard-presenter/
END:VEVENT
END:VCALENDAR