BEGIN:VCALENDAR
VERSION:2.0
PRODID:-//Oregon Coast Learning Institute - ECPv6.15.20//NONSGML v1.0//EN
CALSCALE:GREGORIAN
METHOD:PUBLISH
X-ORIGINAL-URL:https://www.ocli.us
X-WR-CALDESC:Events for Oregon Coast Learning Institute
REFRESH-INTERVAL;VALUE=DURATION:PT1H
X-Robots-Tag:noindex
X-PUBLISHED-TTL:PT1H
BEGIN:VTIMEZONE
TZID:America/Los_Angeles
BEGIN:DAYLIGHT
TZOFFSETFROM:-0800
TZOFFSETTO:-0700
TZNAME:PDT
DTSTART:20250309T100000
END:DAYLIGHT
BEGIN:STANDARD
TZOFFSETFROM:-0700
TZOFFSETTO:-0800
TZNAME:PST
DTSTART:20251102T090000
END:STANDARD
BEGIN:DAYLIGHT
TZOFFSETFROM:-0800
TZOFFSETTO:-0700
TZNAME:PDT
DTSTART:20260308T100000
END:DAYLIGHT
BEGIN:STANDARD
TZOFFSETFROM:-0700
TZOFFSETTO:-0800
TZNAME:PST
DTSTART:20261101T090000
END:STANDARD
BEGIN:DAYLIGHT
TZOFFSETFROM:-0800
TZOFFSETTO:-0700
TZNAME:PDT
DTSTART:20270314T100000
END:DAYLIGHT
BEGIN:STANDARD
TZOFFSETFROM:-0700
TZOFFSETTO:-0800
TZNAME:PST
DTSTART:20271107T090000
END:STANDARD
END:VTIMEZONE
BEGIN:VEVENT
DTSTART;TZID=America/Los_Angeles:20260922T093000
DTEND;TZID=America/Los_Angeles:20260922T105000
DTSTAMP:20260423T140458
CREATED:20260331T034009Z
LAST-MODIFIED:20260331T034558Z
UID:2429-1790069400-1790074200@www.ocli.us
SUMMARY:Building Hope\, One Brick at a Time: The Power of Radical Neighborliness - Lucinda Tayor\, Presenter
DESCRIPTION:Lucinda Taylor\n\nHabitat for Humanity isn’t just a construction crew; it’s a global powerhouse of radical neighborliness. They operate on the belief that a roof over one’s head is the foundation for everything else—health\, education\, and financial stability. \nHere is a look at how they turn blueprints into breakthroughs: \n1. Sweat Equity\, Not Handouts\nHabitat doesn’t just “give away” houses. They partner with families who are willing to put in the work. \n\nThe “Sweat” Part: Future homeowners invest hundreds of hours of sweat equity\, physically helping to build their own homes and the homes of their neighbors.\nThe “Equity” Part: Families purchase their homes through affordable mortgages. It’s a hand-up\, designed to break the cycle of poverty through true ownership.\n\n2. Building Community\, One Nail at a Time\nAs seen in projects like the Garden Estates neighborhood\, Habitat brings together a “motley crew” of volunteers—from corporate teams and retirees to elected officials and local students. It’s one of the few places where you’ll see a CEO and a college freshman side-by-side\, covered in sawdust\, working toward the same goal. \n3. Sustainability and Innovation\nThey are constantly evolving how they tackle the housing crisis. For instance\, Habitat for Humanity of Lincoln County has adopted a permanent affordability model. This land-lease program ensures that even if a family eventually moves\, the home remains affordable for the next low-income buyer\, protecting the community’s investment for generations. \n4. The “ReStore” Revolution\nIf you love a good DIY project\, you probably know the Habitat ReStore. These are home improvement centers that sell donated furniture\, appliances\, and building materials to the public. \n\nThe Win-Win: You get a bargain\, usable items stay out of landfills\, and the proceeds go directly back into funding local home builds.\n\n5. A Global Footprint\nWhile you might see them working in your own backyard\, Habitat operates in 70 countries. Whether they are rebuilding after a natural disaster or advocating for smarter housing laws at the government level\, their mission is simple: a world where everyone has a decent place to live. \n\nHow to Get Involved \nYou don’t need to be a master carpenter to help. Organizations like HFHLC are always looking for: \n\nVolunteers: For framing\, painting\, or office support.\nDonors: To fund materials for new projects.\nShoppers: To visit their ReStores and keep the cycle of building moving.\n\nAre you looking to volunteer your time on a build site\, or are you more interested in the advocacy and donation side of the organization?
URL:https://www.ocli.us/index.php/event/building-hope-one-brick-at-a-time-the-power-of-radical-neighborliness-lucinda-tayor-presenter/
END:VEVENT
BEGIN:VEVENT
DTSTART;TZID=America/Los_Angeles:20260922T111000
DTEND;TZID=America/Los_Angeles:20260922T123000
DTSTAMP:20260423T140458
CREATED:20260331T230115Z
LAST-MODIFIED:20260331T230115Z
UID:2435-1790075400-1790080200@www.ocli.us
SUMMARY:Hatfield Marine Center -Kathleen Hackett\, Presenter
DESCRIPTION:Kathleen Hackett\nWhat We’ll Discover Together \nIn our session about the Hatfield Marine Science Center\, we’ll be stepping into the heart of coastal innovation. Here is a look at what I’ll help you learn and experience: \n\nHands-On Marine Science: You will get a front-row seat to the Pacific. I’ll show you how we use our unique location in Newport to access the estuaries and oceans that dictate the health of our planet.\nWorld-Class Research in Action: You’ll see how we tackle global environmental challenges. I’ll walk you through our work with PacWave and OSU Marine Operations\, giving you a behind-the-scenes look at how cutting-edge marine technology is developed.\nThe Mysteries of the Deep: Beyond the data\, I want to help you connect with the ocean on a deeper level. You’ll leave here with a better understanding of the complex underwater systems that remain a mystery to most.\n\nI can’t wait to show you what we’re working on—come witness the future of marine science with me!
URL:https://www.ocli.us/index.php/event/hatfield-marine-center-kathleen-hackett-presenter/
END:VEVENT
END:VCALENDAR