BEGIN:VCALENDAR
VERSION:2.0
PRODID:-//Oregon Coast Learning Institute - ECPv6.15.20//NONSGML v1.0//EN
CALSCALE:GREGORIAN
METHOD:PUBLISH
X-ORIGINAL-URL:https://www.ocli.us
X-WR-CALDESC:Events for Oregon Coast Learning Institute
REFRESH-INTERVAL;VALUE=DURATION:PT1H
X-Robots-Tag:noindex
X-PUBLISHED-TTL:PT1H
BEGIN:VTIMEZONE
TZID:America/Los_Angeles
BEGIN:DAYLIGHT
TZOFFSETFROM:-0800
TZOFFSETTO:-0700
TZNAME:PDT
DTSTART:20250309T100000
END:DAYLIGHT
BEGIN:STANDARD
TZOFFSETFROM:-0700
TZOFFSETTO:-0800
TZNAME:PST
DTSTART:20251102T090000
END:STANDARD
BEGIN:DAYLIGHT
TZOFFSETFROM:-0800
TZOFFSETTO:-0700
TZNAME:PDT
DTSTART:20260308T100000
END:DAYLIGHT
BEGIN:STANDARD
TZOFFSETFROM:-0700
TZOFFSETTO:-0800
TZNAME:PST
DTSTART:20261101T090000
END:STANDARD
BEGIN:DAYLIGHT
TZOFFSETFROM:-0800
TZOFFSETTO:-0700
TZNAME:PDT
DTSTART:20270314T100000
END:DAYLIGHT
BEGIN:STANDARD
TZOFFSETFROM:-0700
TZOFFSETTO:-0800
TZNAME:PST
DTSTART:20271107T090000
END:STANDARD
END:VTIMEZONE
BEGIN:VEVENT
DTSTART;TZID=America/Los_Angeles:20261027T111000
DTEND;TZID=America/Los_Angeles:20261027T123000
DTSTAMP:20260423T154309
CREATED:20260414T001453Z
LAST-MODIFIED:20260414T013000Z
UID:2466-1793099400-1793104200@www.ocli.us
SUMMARY:“Villages NW: Empowering Older Adults to Remain in Charge of their Lives and Flourish” - Nancy Doty\, Presenter
DESCRIPTION:Nancy Doty\n\nVillages NW is an important part of the nationwide Village Movement  in the U.S. as it has developed in the region around Portland\, Oregon. We have 10 local Villages (list) in the immediate Portland Metro area\, and one along the North Oregon Coast\, empowering older adults to remain in charge of their lives and flourish as they take on the future together. Our mission: “to support dynamic\, intentionally inclusive\, caring communities that connect\, engage\, and inform our older adults as they maintain active\, purposeful lives in the setting that they identify as ‘home’.”
URL:https://www.ocli.us/index.php/event/villages-nw-empowering-older-adults-to-remain-in-charge-of-their-lives-and-flourish-jan-mawson-presenter/
END:VEVENT
END:VCALENDAR