BEGIN:VCALENDAR
VERSION:2.0
PRODID:-//Oregon Coast Learning Institute - ECPv6.15.20//NONSGML v1.0//EN
CALSCALE:GREGORIAN
METHOD:PUBLISH
X-WR-CALNAME:Oregon Coast Learning Institute
X-ORIGINAL-URL:https://www.ocli.us
X-WR-CALDESC:Events for Oregon Coast Learning Institute
REFRESH-INTERVAL;VALUE=DURATION:PT1H
X-Robots-Tag:noindex
X-PUBLISHED-TTL:PT1H
BEGIN:VTIMEZONE
TZID:America/Los_Angeles
BEGIN:DAYLIGHT
TZOFFSETFROM:-0800
TZOFFSETTO:-0700
TZNAME:PDT
DTSTART:20250309T100000
END:DAYLIGHT
BEGIN:STANDARD
TZOFFSETFROM:-0700
TZOFFSETTO:-0800
TZNAME:PST
DTSTART:20251102T090000
END:STANDARD
BEGIN:DAYLIGHT
TZOFFSETFROM:-0800
TZOFFSETTO:-0700
TZNAME:PDT
DTSTART:20260308T100000
END:DAYLIGHT
BEGIN:STANDARD
TZOFFSETFROM:-0700
TZOFFSETTO:-0800
TZNAME:PST
DTSTART:20261101T090000
END:STANDARD
BEGIN:DAYLIGHT
TZOFFSETFROM:-0800
TZOFFSETTO:-0700
TZNAME:PDT
DTSTART:20270314T100000
END:DAYLIGHT
BEGIN:STANDARD
TZOFFSETFROM:-0700
TZOFFSETTO:-0800
TZNAME:PST
DTSTART:20271107T090000
END:STANDARD
END:VTIMEZONE
BEGIN:VEVENT
DTSTART;TZID=America/Los_Angeles:20261027T111000
DTEND;TZID=America/Los_Angeles:20261027T123000
DTSTAMP:20260423T171347
CREATED:20260414T001453Z
LAST-MODIFIED:20260414T013000Z
UID:2466-1793099400-1793104200@www.ocli.us
SUMMARY:“Villages NW: Empowering Older Adults to Remain in Charge of their Lives and Flourish” - Nancy Doty\, Presenter
DESCRIPTION:Nancy Doty\n\nVillages NW is an important part of the nationwide Village Movement  in the U.S. as it has developed in the region around Portland\, Oregon. We have 10 local Villages (list) in the immediate Portland Metro area\, and one along the North Oregon Coast\, empowering older adults to remain in charge of their lives and flourish as they take on the future together. Our mission: “to support dynamic\, intentionally inclusive\, caring communities that connect\, engage\, and inform our older adults as they maintain active\, purposeful lives in the setting that they identify as ‘home’.”
URL:https://www.ocli.us/index.php/event/villages-nw-empowering-older-adults-to-remain-in-charge-of-their-lives-and-flourish-jan-mawson-presenter/
END:VEVENT
BEGIN:VEVENT
DTSTART;TZID=America/Los_Angeles:20261103T093000
DTEND;TZID=America/Los_Angeles:20261103T105000
DTSTAMP:20260423T171347
CREATED:20260417T021007Z
LAST-MODIFIED:20260417T021909Z
UID:2474-1793698200-1793703000@www.ocli.us
SUMMARY:The Cascade Biosphere Paul Roberts\, MSc\, Presenter
DESCRIPTION:Paul Roberts\, MSc\nStaff Scientist/ Project & Communications Manager I CHBC Board Member \nWith over 25 years of hands-on experience\, Paul Roberts is an environmental scientist whose passion for nature and community shines in everything he does. From pioneering advances in environmental sampling and continuous monitoring systems to launching his own company\, Robertson Environmental LLC\, in 2017\, Paul has consistently blended technical expertise with a heartfelt commitment to the environment. A proud graduate of Taft High School and Oregon Coast Community College\, Paul’s academic journey took him from the University of Vermont to a Master of Science at Imperial College London. Like the salmon that inspire him\, Paul ultimately returned to his Oregon Coast roots\, eager to give back to the community that shaped him. \nDriven by a spirit of collaboration\, Paul is a founding board member of both the Cascade Head Biosphere Collaborative and the public-benefit law organization Law of the Wild. Never one to rest on his laurels\, he recently launched a family podcast that celebrates local stories and fosters community connection. Whether he’s in the field\, at the mic\, or leading new initiatives\, Paul’s enduring dedication makes him a vital force for positive change on the Oregon Coast. \n 
URL:https://www.ocli.us/index.php/event/the-cascade-biosphere-paul-roberts-msc-presenter/
END:VEVENT
BEGIN:VEVENT
DTSTART;TZID=America/Los_Angeles:20261103T111000
DTEND;TZID=America/Los_Angeles:20261103T123000
DTSTAMP:20260423T171347
CREATED:20260403T184342Z
LAST-MODIFIED:20260408T013707Z
UID:2445-1793704200-1793709000@www.ocli.us
SUMMARY:Newport Fisherman's Wives Story - Taunette Dixon\, Presenter
DESCRIPTION:Taunette Dixon\nThe Newport Fishermen’s Wives is a non-profit corporation of fishermen’s wives\, mothers\, daughters\, and friends\, supporting a strong sense of community helping to further the causes of industry\, safety\, seafood education\, and family support.
URL:https://www.ocli.us/index.php/event/newport-fishermans-wives-story-taunette-dixon/
END:VEVENT
BEGIN:VEVENT
DTSTART;TZID=America/Los_Angeles:20261110T093000
DTEND;TZID=America/Los_Angeles:20261110T105000
DTSTAMP:20260423T171347
CREATED:20260418T200130Z
LAST-MODIFIED:20260420T213723Z
UID:2487-1794303000-1794307800@www.ocli.us
SUMMARY:“From Coastal Vision to Community Landmark: The Story of Chinook Winds Casino Resort” - Heather Hatton-Public Relations Manager\, Presenter
DESCRIPTION:Heather Hatton
URL:https://www.ocli.us/index.php/event/philanthropy-of-the-chinook-winds-casino-heather-hatton-public-relations-manager-presenter/
END:VEVENT
BEGIN:VEVENT
DTSTART;TZID=America/Los_Angeles:20261117T093000
DTEND;TZID=America/Los_Angeles:20261117T105000
DTSTAMP:20260423T171347
CREATED:20260418T200326Z
LAST-MODIFIED:20260420T215341Z
UID:2490-1794907800-1794912600@www.ocli.us
SUMMARY:History of the Lincoln City Outlets.  Sharyn Jasmer\, Presenter
DESCRIPTION:Sharyn Jasmer
URL:https://www.ocli.us/index.php/event/lincoln-city-outlets-sharon/
END:VEVENT
BEGIN:VEVENT
DTSTART;TZID=America/Los_Angeles:20261124T093000
DTEND;TZID=America/Los_Angeles:20261124T105000
DTSTAMP:20260423T171347
CREATED:20260408T014212Z
LAST-MODIFIED:20260408T014243Z
UID:2459-1795512600-1795517400@www.ocli.us
SUMMARY:The Oregon Cultural Trust - Niki Price\, Presenter
DESCRIPTION:Niki Price\nWhere else but Oregon would you find a statewide program to protect cultural vitality?\nCreated in 2001 by the Oregon Legislature\, the Oregon Cultural Trust is a testimony to how much Oregonians value culture. No other state provides a 100 percent tax credit to inspire cultural giving. \nAs uniquely Oregonian as public beaches and the bottle bill\, the Oregon Cultural Trust was established by the Oregon Legislature as an ongoing funding engine for arts and culture across the state. \nOregonians fund the Cultural Trust. We\, in turn\, fund the artists\, potters\, rappers\, acrobats and dreamers who make Oregon\, Oregon. \nIn 2023 Oregonians gave $5.4 million to the Cultural Trust! Sixty percent of that went straight back to the field. The remaining 40 percent helped grow our permanent fund. \nOur three grant programs fund our five Statewide Partners\, 45 County and Tribal Coalitions and qualified cultural nonprofits through competitive Cultural Development Grants. \nNo other state in the union has this incredible benefit. Lucky Oregonians! \n 
URL:https://www.ocli.us/index.php/event/the-oregon-cultural-trust-niki-price-presenter-2/
END:VEVENT
END:VCALENDAR