BEGIN:VCALENDAR
VERSION:2.0
PRODID:-//Oregon Coast Learning Institute - ECPv6.15.20//NONSGML v1.0//EN
CALSCALE:GREGORIAN
METHOD:PUBLISH
X-WR-CALNAME:Oregon Coast Learning Institute
X-ORIGINAL-URL:https://www.ocli.us
X-WR-CALDESC:Events for Oregon Coast Learning Institute
REFRESH-INTERVAL;VALUE=DURATION:PT1H
X-Robots-Tag:noindex
X-PUBLISHED-TTL:PT1H
BEGIN:VTIMEZONE
TZID:America/Los_Angeles
BEGIN:DAYLIGHT
TZOFFSETFROM:-0800
TZOFFSETTO:-0700
TZNAME:PDT
DTSTART:20220313T100000
END:DAYLIGHT
BEGIN:STANDARD
TZOFFSETFROM:-0700
TZOFFSETTO:-0800
TZNAME:PST
DTSTART:20221106T090000
END:STANDARD
BEGIN:DAYLIGHT
TZOFFSETFROM:-0800
TZOFFSETTO:-0700
TZNAME:PDT
DTSTART:20230312T100000
END:DAYLIGHT
BEGIN:STANDARD
TZOFFSETFROM:-0700
TZOFFSETTO:-0800
TZNAME:PST
DTSTART:20231105T090000
END:STANDARD
BEGIN:DAYLIGHT
TZOFFSETFROM:-0800
TZOFFSETTO:-0700
TZNAME:PDT
DTSTART:20240310T100000
END:DAYLIGHT
BEGIN:STANDARD
TZOFFSETFROM:-0700
TZOFFSETTO:-0800
TZNAME:PST
DTSTART:20241103T090000
END:STANDARD
BEGIN:DAYLIGHT
TZOFFSETFROM:-0800
TZOFFSETTO:-0700
TZNAME:PDT
DTSTART:20250309T100000
END:DAYLIGHT
BEGIN:STANDARD
TZOFFSETFROM:-0700
TZOFFSETTO:-0800
TZNAME:PST
DTSTART:20251102T090000
END:STANDARD
BEGIN:DAYLIGHT
TZOFFSETFROM:-0800
TZOFFSETTO:-0700
TZNAME:PDT
DTSTART:20260308T100000
END:DAYLIGHT
BEGIN:STANDARD
TZOFFSETFROM:-0700
TZOFFSETTO:-0800
TZNAME:PST
DTSTART:20261101T090000
END:STANDARD
END:VTIMEZONE
BEGIN:VEVENT
DTSTART;VALUE=DATE:20250325
DTEND;VALUE=DATE:20250326
DTSTAMP:20260423T154508
CREATED:20250214T225600Z
LAST-MODIFIED:20250321T161311Z
UID:1978-1742860800-1742947199@www.ocli.us
SUMMARY:DAY AT THE CULTURAL CENTER W/ARTISTS  Nikki Price
DESCRIPTION:Niki directs the Lincoln City Cultural Center\, which includes a performing arts auditorium\, fine art gallery\, info center and studios for dance\, ceramics\, textiles and mosaics. She also serves as co-chair of the Lincoln County Cultural Coalition and as chair of the Lincoln City Public Art Committee. She recently embarked on an adventure with a dual mission — a hike on the Oregon Coast Trail while visiting hundreds of pieces of public art. With help from a new map and resource called the the Oregon Coast Public Art Trail\, she’ll attempt to hoof it from border to border\, from the Columbia River down to California\, and see ALL the public art along the way. Niki has a background in theater and journalism and co-founded the Oregon Coast TODAY. Niki believes that creative expression is a goal unto itself.
URL:https://www.ocli.us/index.php/event/day-at-the-cultural-center-w-artists-nikki-price/
END:VEVENT
BEGIN:VEVENT
DTSTART;TZID=America/Los_Angeles:20250318T093000
DTEND;TZID=America/Los_Angeles:20250318T105000
DTSTAMP:20260423T154508
CREATED:20250214T224134Z
LAST-MODIFIED:20250314T172649Z
UID:1972-1742290200-1742295000@www.ocli.us
SUMMARY:Samaritan House	Lola Jones
DESCRIPTION:9:30-10:50 Samaritan House     Lola Jones \nSamaritan House envisions a community where all families can live together in safe\, affordable\, and sustainable housing: and all generations are able to thrive. \n\n\n\n\n\nWe serve families with dependent children experiencing homelessness. We offer a variety of programs for our residents\, including:\n\n\n\n\n\n\n\n\n\nStabilizing Shelter\nTransitional Shelter\nTransitional Housing\nResident Education Programming\nFree Parenting Education\nProject Homeless Connect\nAdvocacy and Community Leadership\nSo much more!
URL:https://www.ocli.us/index.php/event/samaritan-houselola-jones/
END:VEVENT
BEGIN:VEVENT
DTSTART;VALUE=DATE:20250318
DTEND;VALUE=DATE:20250319
DTSTAMP:20260423T154508
CREATED:20250214T225657Z
LAST-MODIFIED:20250310T004231Z
UID:1980-1742256000-1742342399@www.ocli.us
SUMMARY:Citizenship and the Fourteenth Amendment   Brent Burford
DESCRIPTION:11:10-12:30  There has been discussion in the news of the current administration wanting to change the current standard on “birthright citizenship.”  Brent Burford will explain the relationship between the Fourteenth Amendment and the issue of citizenship.
URL:https://www.ocli.us/index.php/event/maxine-sheets-johnstone/
END:VEVENT
BEGIN:VEVENT
DTSTART;TZID=America/Los_Angeles:20250311T093000
DTEND;TZID=America/Los_Angeles:20250311T105000
DTSTAMP:20260423T154508
CREATED:20250308T023641Z
LAST-MODIFIED:20250310T005412Z
UID:2037-1741685400-1741690200@www.ocli.us
SUMMARY:Oregon Flora Project   Linda Hardiman
DESCRIPTION:“Discover the Plant Diversity of Oregon”—OregonFlora Director Linda Hardison will speak about OregonFlora resources that share our state’s “rich and varied plant life.” 
URL:https://www.ocli.us/index.php/event/oregon-flora-project-linda-hardiman-2/
END:VEVENT
BEGIN:VEVENT
DTSTART;VALUE=DATE:20250311
DTEND;VALUE=DATE:20250312
DTSTAMP:20260423T154508
CREATED:20250214T224012Z
LAST-MODIFIED:20250310T005814Z
UID:1970-1741651200-1741737599@www.ocli.us
SUMMARY:World War II in Lincoln City Christopher Melton
DESCRIPTION:11:10-12:30 World War II in Lincoln City Christopher Melton \n\n\n\n\nAbout\nChristopher has a BA in Art History and Studio Art\, an MFA in Film and Video Production\, and an MLS in archives. He is a sound recordist\, artist\, and multimedia archivist. He lives in rural Oregon\, where he hikes with his dog\, converses with trees\, records audio\, and acts as Executive Director of the North Lincoln County Historical Museum.
URL:https://www.ocli.us/index.php/event/world-war-ii-in-lincoln-city-christopher-melton/
END:VEVENT
BEGIN:VEVENT
DTSTART;TZID=America/Los_Angeles:20250304T111000
DTEND;TZID=America/Los_Angeles:20250304T123000
DTSTAMP:20260423T154508
CREATED:20250214T225431Z
LAST-MODIFIED:20250301T183456Z
UID:1976-1741086600-1741091400@www.ocli.us
SUMMARY:New Rules for End of Life Care	Kelly Sautel
DESCRIPTION:11:10-12:30 New Rules for End of Life Care      Kelly Sautel
URL:https://www.ocli.us/index.php/event/new-rules-for-end-of-life-carekelly-sautel/
END:VEVENT
BEGIN:VEVENT
DTSTART;TZID=America/Los_Angeles:20250304T093000
DTEND;TZID=America/Los_Angeles:20250304T105000
DTSTAMP:20260423T154508
CREATED:20250301T183220Z
LAST-MODIFIED:20250301T183527Z
UID:2030-1741080600-1741085400@www.ocli.us
SUMMARY:Kindness 101    Ric Neese
DESCRIPTION:What do Charles Kuralt\, Jane Pauly\, Charles Osgood\, and Steve Harman have in common? Gratitude\, purpose\, compassion\, and gratitude. \n\n\n\nCharles Kuralt exemplified gratitude through his storytelling\, often highlighting the simple joys and overlooked heroes across America. His program\, “On the Road\,” celebrated the spirit of everyday people with genuine appreciation for their contributions and stories. \n\n\n\nJane Pauly demonstrated a strong sense of purpose throughout her career by addressing significant social issues and advocating for mental health awareness. Her dedication to making a difference in people’s lives showcased her commitment to purposeful journalism. \n\n\n\nCharles Osgood was known for his compassion through his warm and thoughtful commentary on CBS Sunday Morning. His ability to connect with audiences and convey empathy in his stories reflected his deep understanding and kindness towards others. \n\n\n\nSteve Harman displayed gratitude by consistently recognizing the efforts of those he worked with and reported on. His work often emphasized the positive impact individuals had on their communities\, showing appreciation for their efforts and achievements. \n\n\n\nIn this way\, Kuralt\, Pauly\, Osgood\, and Harman shine as examples of how gratitude\, purpose\, and compassion can be interwoven into one’s professional and personal life\, inspiring others to follow their lead.
URL:https://www.ocli.us/index.php/event/kindness-101-ric-neese/
END:VEVENT
BEGIN:VEVENT
DTSTART;VALUE=DATE:20250225
DTEND;VALUE=DATE:20250226
DTSTAMP:20260423T154508
CREATED:20250214T221048Z
LAST-MODIFIED:20250220T171451Z
UID:1959-1740441600-1740527999@www.ocli.us
SUMMARY:A tour of the pipe organ and its music	Jeannine Jordan
DESCRIPTION:11:10-12:30     Jeannine Jordan and Professor Bombarde will guide you on a musical and historical journey about the pipe organ. You’ll watch Jeannine play her favorite organ music from around the world while Professor Bombarde explains how a pipe organ works in an entertaining way.
URL:https://www.ocli.us/index.php/event/a-tour-of-the-pipe-organ-and-its-musicjeanine-jordan/
END:VEVENT
BEGIN:VEVENT
DTSTART;VALUE=DATE:20250225
DTEND;VALUE=DATE:20250226
DTSTAMP:20260423T154508
CREATED:20250214T220935Z
LAST-MODIFIED:20250220T172253Z
UID:1956-1740441600-1740527999@www.ocli.us
SUMMARY:Living with African Hunter-Gatherers 	Barry Hewlett
DESCRIPTION:9:30-10:50       Living with African Hunter-Gatherers            Barry Hewlett
URL:https://www.ocli.us/index.php/event/living-with-african-hunter-gatherers-barry-hewlett/
END:VEVENT
BEGIN:VEVENT
DTSTART;VALUE=DATE:20250218
DTEND;VALUE=DATE:20250219
DTSTAMP:20260423T154508
CREATED:20250214T224514Z
LAST-MODIFIED:20250214T225950Z
UID:1974-1739836800-1739923199@www.ocli.us
SUMMARY:The Creation of CBTS's Fellowship Hall	Ric Neese
DESCRIPTION:Ric Neese will offer a visual PowerPoint presentation of the construction of the Fellowship Hall which currently hosts the Oregon Coast Institute including profiles of several of the key planners who made the room a reality.
URL:https://www.ocli.us/index.php/event/the-creation-of-cbtss-fellowship-hallric-neese/
END:VEVENT
BEGIN:VEVENT
DTSTART;VALUE=DATE:20250218
DTEND;VALUE=DATE:20250219
DTSTAMP:20260423T154508
CREATED:20250214T220827Z
LAST-MODIFIED:20250214T230625Z
UID:1953-1739836800-1739923199@www.ocli.us
SUMMARY:Know the 10 Warning Signs of Alzheimer's and Dementia	Tracy Morgan
DESCRIPTION:Know the 10 Warning Signs of Alzheimer’s and Dementia\, by Tracy Morgan and Alise Liepnieks \nIn this class\, attendees will gain an understanding of the difference between age-related memory loss and Alzheimer’s and what to do if they or someone they know has signs of the disease. Video footage of real people who are living with the early stages of dementia and their families will be shown addressing fears and myths associated with Alzheimer’s disease. The workshop will cover the following topics: \n\nThe 10 warning signs vs. normal aging\nOverview of Alzheimer’s disease\nRisk factors\nWhat is involved in getting a diagnosis\nBenefits of early detection\, including accessing available treatment\, planning for the future and participating in clinical trials\, are also addressed.
URL:https://www.ocli.us/index.php/event/know-the-10-warning-signs-of-alzheimers-and-dementiatracy-morgan/
END:VEVENT
BEGIN:VEVENT
DTSTART;TZID=America/Los_Angeles:20241119T111000
DTEND;TZID=America/Los_Angeles:20241119T123000
DTSTAMP:20260423T154508
CREATED:20241015T170802Z
LAST-MODIFIED:20241016T023515Z
UID:1935-1732014600-1732019400@www.ocli.us
SUMMARY:Driftwood Library Today - Kirsten Brodbeck-Kenney - Joyce
DESCRIPTION:Kirsten Brodbeck-Kenney\, the Head Librarian\, will outline all the services Driftwood Library has to offer.
URL:https://www.ocli.us/index.php/event/driftwood-library-today-kirsten-brodbeck-kenney-joyce/
END:VEVENT
BEGIN:VEVENT
DTSTART;TZID=America/Los_Angeles:20241119T093000
DTEND;TZID=America/Los_Angeles:20241119T105000
DTSTAMP:20260423T154508
CREATED:20241015T170407Z
LAST-MODIFIED:20241016T023423Z
UID:1933-1732008600-1732013400@www.ocli.us
SUMMARY:History of Lincoln City’s Driftwood Library - Patty Heringer - Joyce
DESCRIPTION:Patty will explain the history of the library from when it was first started\, the various places that have hosted it during those early years.
URL:https://www.ocli.us/index.php/event/history-of-lincoln-citys-driftwood-library-patty-heringer-joyce/
END:VEVENT
BEGIN:VEVENT
DTSTART;TZID=America/Los_Angeles:20241112T111000
DTEND;TZID=America/Los_Angeles:20241112T123000
DTSTAMP:20260423T154508
CREATED:20241015T165918Z
LAST-MODIFIED:20241016T023237Z
UID:1931-1731409800-1731414600@www.ocli.us
SUMMARY:Paleolithic Art - Michael Freeman
DESCRIPTION:
URL:https://www.ocli.us/index.php/event/paleolithic-art-michael-freeman/
END:VEVENT
BEGIN:VEVENT
DTSTART;TZID=America/Los_Angeles:20241112T093000
DTEND;TZID=America/Los_Angeles:20241112T105000
DTSTAMP:20260423T154508
CREATED:20241015T165340Z
LAST-MODIFIED:20241016T023208Z
UID:1929-1731403800-1731408600@www.ocli.us
SUMMARY:A Mostly True Story of Johann Sebastian Bach - David Jordan - Ric Neese
DESCRIPTION:David Jordan will introduce and cover some of the highlights of his newly published and very humorous book.
URL:https://www.ocli.us/index.php/event/a-mostly-true-story-of-johann-sebastian-bach-david-jordan-ric-neese/
END:VEVENT
BEGIN:VEVENT
DTSTART;TZID=America/Los_Angeles:20241105T111000
DTEND;TZID=America/Los_Angeles:20241105T123000
DTSTAMP:20260423T154508
CREATED:20241015T163643Z
LAST-MODIFIED:20241016T023045Z
UID:1927-1730805000-1730809800@www.ocli.us
SUMMARY:Navigating Coastal Futures: Insights from Social Science - Valerie Berseth - Evelyn
DESCRIPTION:Valerie Berseth will explore how human relationships with coastal environments are evolving in the face of environmental changes and technological advances.  She will share insights from research she has done with Pacific salmon conservation in the US and Canada and she will highlight how communities are adapting to new challenges while redefining their relationships to nature and coastal ecosystems. By examining both the risks and opportunities presented by emerging technologies\, we’ll discuss the ways that our values and perceptions intersect with policy and innovation to shape the future of our coasts.
URL:https://www.ocli.us/index.php/event/navigating-coastal-futures-insights-from-social-science-valerie-berseth-evelyn/
END:VEVENT
BEGIN:VEVENT
DTSTART;TZID=America/Los_Angeles:20241105T093000
DTEND;TZID=America/Los_Angeles:20241105T105000
DTSTAMP:20260423T154508
CREATED:20241015T163436Z
LAST-MODIFIED:20241016T023023Z
UID:1925-1730799000-1730803800@www.ocli.us
SUMMARY:Book Reviews by Members
DESCRIPTION:Members will sign up to review books they’ve read recently.
URL:https://www.ocli.us/index.php/event/book-reviews-by-members/
END:VEVENT
BEGIN:VEVENT
DTSTART;TZID=America/Los_Angeles:20241029T111000
DTEND;TZID=America/Los_Angeles:20241029T123000
DTSTAMP:20260423T154508
CREATED:20241015T163201Z
LAST-MODIFIED:20241016T022804Z
UID:1923-1730200200-1730205000@www.ocli.us
SUMMARY:Great Grain Discoveries - Beatriz Botello - Evelyn
DESCRIPTION:Eating whole grains supports blood pressure\, cholesterol\, digestion\, blood sugar\, and weight control. This session will offer information on how to identify whole grains\, read whole grain and fiber labels\, and tips on how to find easy and inexpensive recipes on the Food Hero website. A Food Hero recipe will be served.
URL:https://www.ocli.us/index.php/event/great-grain-discoveries-beatriz-botello-evelyn/
END:VEVENT
BEGIN:VEVENT
DTSTART;TZID=America/Los_Angeles:20241029T093000
DTEND;TZID=America/Los_Angeles:20241029T105000
DTSTAMP:20260423T154508
CREATED:20241015T163006Z
LAST-MODIFIED:20241016T022734Z
UID:1921-1730194200-1730199000@www.ocli.us
SUMMARY:Family Promise - Elizabeth Reyes - Conrad Schmitt
DESCRIPTION:
URL:https://www.ocli.us/index.php/event/family-promise-elizabeth-reyes-conrad-schmitt/
END:VEVENT
BEGIN:VEVENT
DTSTART;TZID=America/Los_Angeles:20241022T111000
DTEND;TZID=America/Los_Angeles:20241022T123000
DTSTAMP:20260423T154508
CREATED:20241015T162128Z
LAST-MODIFIED:20241016T022614Z
UID:1919-1729595400-1729600200@www.ocli.us
SUMMARY:Inside the Newport Visual Arts Center - Chassee Davidson	Conrad/Gail
DESCRIPTION:A glimpse into the galleries\, receptions\, workshops\, classes\, community events/partners\, and art bus of the Newport Visual Arts Center.\nChasse Davidson has been the Director of the VAC since August of 2022.  She moved to Lincoln County 17 years ago from the Willamette Valley. She earned her BS in Studio Art from Western Oregon University. She began curating shows during her time as President of the Toledo Arts Guild and continued showcasing local art in her gallery space of Toledo Clayworks.   She owned and operated Toledo Clayworks from 2015-2020\, and closed due to COVID.  Chasse has been a ceramic artist for the past 30 years.  She and her husband have two children.
URL:https://www.ocli.us/index.php/event/inside-the-newport-visual-arts-center-chassee-davidsonconrad-gail/
END:VEVENT
BEGIN:VEVENT
DTSTART;TZID=America/Los_Angeles:20241022T093000
DTEND;TZID=America/Los_Angeles:20241022T105000
DTSTAMP:20260423T154508
CREATED:20241015T161420Z
LAST-MODIFIED:20241016T022541Z
UID:1916-1729589400-1729594200@www.ocli.us
SUMMARY:What happened on May 10th? - Sifan Kahale - Joyce
DESCRIPTION:Join Sifan as she explains the awesome events that led to the record-breaking Aurora on May 10. This event\nclocked in at a G5 and a KP9: the maximum of both scales! A single sunspot generated 7 huge flares and associated CME’s. Two of those were ‘cannibal’ flares! Come and find out what all of this means. (photo)
URL:https://www.ocli.us/index.php/event/what-happened-on-may-10th-sifan-kahale-joyce/
END:VEVENT
BEGIN:VEVENT
DTSTART;TZID=America/Los_Angeles:20241015T111000
DTEND;TZID=America/Los_Angeles:20241015T123000
DTSTAMP:20260423T154508
CREATED:20241015T160611Z
LAST-MODIFIED:20241016T022351Z
UID:1910-1728990600-1728995400@www.ocli.us
SUMMARY:Local Healthcare Update - Dr. Lesley Ogden - Evelyn
DESCRIPTION:Dr. Ogden will cover new service lines\, technology enhancements\, workforce solutions\, and future projects as well as challenges that we face locally and across the industry.
URL:https://www.ocli.us/index.php/event/local-healthcare-update-dr-lesley-ogden-evelyn/
END:VEVENT
BEGIN:VEVENT
DTSTART;TZID=America/Los_Angeles:20241015T093000
DTEND;TZID=America/Los_Angeles:20241015T105000
DTSTAMP:20260423T154508
CREATED:20241015T160207Z
LAST-MODIFIED:20241016T022313Z
UID:1908-1728984600-1728989400@www.ocli.us
SUMMARY:The Girls Who Stepped Out of Line\, by Maj. Gen. Mari K Eder - Conrad Schmitt - Joyce
DESCRIPTION:Conrad will discuss this book about women who served\, fought\, struggled and made things happen in World War II.  Both in and out of uniform\, their legacy is destined to inspire generations of women to come.  From daring spies to audacious pilots\, from innovative scientists to indomitable resistance fighters\, these extraordinary women stepped out of line making unique contributions and into the pages of history.
URL:https://www.ocli.us/index.php/event/the-girls-who-stepped-out-of-line-by-maj-gen-mari-k-eder-conrad-schmitt/
END:VEVENT
BEGIN:VEVENT
DTSTART;TZID=America/Los_Angeles:20241008T111000
DTEND;TZID=America/Los_Angeles:20241008T123000
DTSTAMP:20260423T154508
CREATED:20241015T155831Z
LAST-MODIFIED:20241016T022218Z
UID:1906-1728385800-1728390600@www.ocli.us
SUMMARY:What is happening in the forests of Oregon - Dan Stark - Evelyn
DESCRIPTION:Dan Stark\, OSU Extension Forester\, will discuss the invasive pests and updates on the emerald ash borer.  He will also share what is happening with harvesting and reforestation of the land.  He will answer the question of\, do redwoods and giant sequoia grow well in Oregon?  He is open to answering questions you have about our forests.
URL:https://www.ocli.us/index.php/event/what-is-happening-in-the-forests-of-oregon-dan-stark/
END:VEVENT
BEGIN:VEVENT
DTSTART;TZID=America/Los_Angeles:20241008T093000
DTEND;TZID=America/Los_Angeles:20241008T105000
DTSTAMP:20260423T154508
CREATED:20241015T155306Z
LAST-MODIFIED:20241016T022127Z
UID:1904-1728379800-1728384600@www.ocli.us
SUMMARY:Finding Oregon’s Covered Bridges - Sifan Kahale - Evelyn
DESCRIPTION:Join Sifan as she relates her adventures finding all of the covered bridges in Oregon – and then some.  Picture driving through a covered bridge\, orange sunset colors ahead\, boards clickety-clacking and the sounds of gurgling water and frogs singing.  Which ones were her favorite\, which were the most difficult to find\, how many ‘small’ pedestrian ones are there and how about an upside down covered bridge? Of the 54 official covered bridges\, Sifan visited 59! (photo)
URL:https://www.ocli.us/index.php/event/finding-oregons-covered-bridges-sifan-kahale/
END:VEVENT
BEGIN:VEVENT
DTSTART;VALUE=DATE:20240102
DTEND;VALUE=DATE:20240103
DTSTAMP:20260423T154508
CREATED:20231012T151137Z
LAST-MODIFIED:20240819T010629Z
UID:1880-1704153600-1704239999@www.ocli.us
SUMMARY:Hold the Press! – Patrick Alexander
DESCRIPTION:What does it take to run a small coastal newspaper in the aftermath of the information revolution? \nHow do you balance the books while creating a compelling product for locals and visitors alike? \nAnd how do you stay fresh while writing about a kite festival for the 25th time? \nGet answers to all these questions and more in a presentation from Patrick Alexander\, owner and publisher of Oregon Coast TODAY\, a free arts and entertainment publication now in its 18th year serving readers and businesses on the Central Oregon Coast.
URL:https://www.ocli.us/index.php/event/hold-the-press-patrick-alexander/
END:VEVENT
BEGIN:VEVENT
DTSTART;VALUE=DATE:20231121
DTEND;VALUE=DATE:20231122
DTSTAMP:20260423T154508
CREATED:20231012T150719Z
LAST-MODIFIED:20231012T150719Z
UID:1878-1700524800-1700611199@www.ocli.us
SUMMARY:Increasing coastal community resilience to coastal hazards in Cascadia – Peter Ruggiero
DESCRIPTION:Pacific Northwest coastal communities are at risk from earthquakes\, including “The Really Big One\,” tsunamis\, sea level rise\, landslides\, erosion\, and changing patterns of storminess. Stretching from Humboldt Bay in Northern California to the Salish Sea in Washington\, these Cascadia communities have called for “a coordinated research agenda among universities\, governmental agencies\, NGOs\, and others” to help them increase resilience to these coastal hazards. Join us to learn how the Cascadia Coastlines and Peoples Hazards Research Hub (Cascadia CoPes Hub) is responding directly to this call to increase coastal community adaptive capacity.
URL:https://www.ocli.us/index.php/event/increasing-coastal-community-resilience-to-coastal-hazards-in-cascadia-peter-ruggiero/
END:VEVENT
BEGIN:VEVENT
DTSTART;VALUE=DATE:20231121
DTEND;VALUE=DATE:20231122
DTSTAMP:20260423T154508
CREATED:20231012T150605Z
LAST-MODIFIED:20231012T150605Z
UID:1876-1700524800-1700611199@www.ocli.us
SUMMARY:Cascade Head Biosphere – Paul Robertson
DESCRIPTION:Paul Robertson is the Staff Scientist and Project and Communications Manager for the newly-formed 501c3 Non-Profit\, Cascade Head Biosphere Collaborative\, the people side of the UNESCO Cascade Head Biosphere Region here on the central Oregon Coast.  He will be talking about their programming and their three pillars–Education\, Climate\, and Community. Expect to see some short videos and hear about the ways this young organization is bringing awareness of this 100\,000+ acre\, internationally recognized place at the edge of a continent and the Pacific Ocean. 
URL:https://www.ocli.us/index.php/event/cascade-head-biosphere-paul-robertson/
END:VEVENT
BEGIN:VEVENT
DTSTART;VALUE=DATE:20231114
DTEND;VALUE=DATE:20231115
DTSTAMP:20260423T154508
CREATED:20231012T150331Z
LAST-MODIFIED:20231012T150331Z
UID:1874-1699920000-1700006399@www.ocli.us
SUMMARY:Be Fit for Life: Put Knowing and Doing Together – Brenda Luntzel
DESCRIPTION:Living well and preventing illness is a foundation of health and longevity.  You read all about what to do to age better. You are wiser as you have more experience in life. You have the time\, now that you are retired\, to invest in your health. Right? The most challenging piece to the puzzle is “doing what we know.” This lecture is a lot more about “DOING” than “KNOWING.” You will be more active\, so dress for  movement. There will be some “WHY\,” and then it is about the “WHAT” and “HOW.”
URL:https://www.ocli.us/index.php/event/be-fit-for-life-put-knowing-and-doing-together-brenda-luntzel/
END:VEVENT
BEGIN:VEVENT
DTSTART;VALUE=DATE:20231114
DTEND;VALUE=DATE:20231115
DTSTAMP:20260423T154508
CREATED:20231012T150218Z
LAST-MODIFIED:20231012T150218Z
UID:1872-1699920000-1700006399@www.ocli.us
SUMMARY:The Five Queens of British Mystery – Conrad Schmitt
DESCRIPTION:The Golden Age of English language mystery novels is regarded as the period of the early twentieth century when the genre of the “Clue-Puzzle“ novel achieved its zenith. Five women\, four from Great Britain\, and one New Zealander\, are generally considered the “Queens of Mystery “ for their dominance of that period. The four British authors were Agatha Christie\, Margery Allingham\, Dorothy Sayers\, P. D. James\, and the lone Kiwi\, Ngaio Marsh. Join us as we delve into the fascinating world of these talented women writers.
URL:https://www.ocli.us/index.php/event/the-five-queens-of-british-mystery-conrad-schmitt/
END:VEVENT
END:VCALENDAR