BEGIN:VCALENDAR
VERSION:2.0
PRODID:-//Oregon Coast Learning Institute - ECPv6.15.20//NONSGML v1.0//EN
CALSCALE:GREGORIAN
METHOD:PUBLISH
X-WR-CALNAME:Oregon Coast Learning Institute
X-ORIGINAL-URL:https://www.ocli.us
X-WR-CALDESC:Events for Oregon Coast Learning Institute
REFRESH-INTERVAL;VALUE=DURATION:PT1H
X-Robots-Tag:noindex
X-PUBLISHED-TTL:PT1H
BEGIN:VTIMEZONE
TZID:America/Los_Angeles
BEGIN:DAYLIGHT
TZOFFSETFROM:-0800
TZOFFSETTO:-0700
TZNAME:PDT
DTSTART:20210314T100000
END:DAYLIGHT
BEGIN:STANDARD
TZOFFSETFROM:-0700
TZOFFSETTO:-0800
TZNAME:PST
DTSTART:20211107T090000
END:STANDARD
BEGIN:DAYLIGHT
TZOFFSETFROM:-0800
TZOFFSETTO:-0700
TZNAME:PDT
DTSTART:20220313T100000
END:DAYLIGHT
BEGIN:STANDARD
TZOFFSETFROM:-0700
TZOFFSETTO:-0800
TZNAME:PST
DTSTART:20221106T090000
END:STANDARD
BEGIN:DAYLIGHT
TZOFFSETFROM:-0800
TZOFFSETTO:-0700
TZNAME:PDT
DTSTART:20230312T100000
END:DAYLIGHT
BEGIN:STANDARD
TZOFFSETFROM:-0700
TZOFFSETTO:-0800
TZNAME:PST
DTSTART:20231105T090000
END:STANDARD
BEGIN:DAYLIGHT
TZOFFSETFROM:-0800
TZOFFSETTO:-0700
TZNAME:PDT
DTSTART:20240310T100000
END:DAYLIGHT
BEGIN:STANDARD
TZOFFSETFROM:-0700
TZOFFSETTO:-0800
TZNAME:PST
DTSTART:20241103T090000
END:STANDARD
END:VTIMEZONE
BEGIN:VEVENT
DTSTART;TZID=America/Los_Angeles:20230110T093000
DTEND;TZID=America/Los_Angeles:20230110T105000
DTSTAMP:20260423T231825
CREATED:20230104T153533Z
LAST-MODIFIED:20230104T153533Z
UID:1785-1673343000-1673347800@www.ocli.us
SUMMARY:Martin Luther King's Letter From the Birmingham Jail
DESCRIPTION:Presented by Brent Burford
URL:https://www.ocli.us/index.php/event/martin-luther-kings-letter-from-the-birmingham-jail/
LOCATION:Chapel by the Sea\, 2125 SE Lee Avenue\, Lincoln City\, 97367
END:VEVENT
BEGIN:VEVENT
DTSTART;TZID=America/Los_Angeles:20221122T093000
DTEND;TZID=America/Los_Angeles:20221122T105000
DTSTAMP:20260423T231825
CREATED:20220916T174934Z
LAST-MODIFIED:20220916T174934Z
UID:1772-1669109400-1669114200@www.ocli.us
SUMMARY:Antonio Gaudi\, Architect
DESCRIPTION:Presented by Paul Brookhyser.
URL:https://www.ocli.us/index.php/event/antonio-gaudi-architect/
LOCATION:Chapel by the Sea\, 2125 SE Lee Avenue\, Lincoln City\, 97367
END:VEVENT
END:VCALENDAR