BEGIN:VCALENDAR
VERSION:2.0
PRODID:-//Oregon Coast Learning Institute - ECPv6.15.20//NONSGML v1.0//EN
CALSCALE:GREGORIAN
METHOD:PUBLISH
X-WR-CALNAME:Oregon Coast Learning Institute
X-ORIGINAL-URL:https://www.ocli.us
X-WR-CALDESC:Events for Oregon Coast Learning Institute
REFRESH-INTERVAL;VALUE=DURATION:PT1H
X-Robots-Tag:noindex
X-PUBLISHED-TTL:PT1H
BEGIN:VTIMEZONE
TZID:America/Los_Angeles
BEGIN:DAYLIGHT
TZOFFSETFROM:-0800
TZOFFSETTO:-0700
TZNAME:PDT
DTSTART:20220313T100000
END:DAYLIGHT
BEGIN:STANDARD
TZOFFSETFROM:-0700
TZOFFSETTO:-0800
TZNAME:PST
DTSTART:20221106T090000
END:STANDARD
BEGIN:DAYLIGHT
TZOFFSETFROM:-0800
TZOFFSETTO:-0700
TZNAME:PDT
DTSTART:20230312T100000
END:DAYLIGHT
BEGIN:STANDARD
TZOFFSETFROM:-0700
TZOFFSETTO:-0800
TZNAME:PST
DTSTART:20231105T090000
END:STANDARD
BEGIN:DAYLIGHT
TZOFFSETFROM:-0800
TZOFFSETTO:-0700
TZNAME:PDT
DTSTART:20240310T100000
END:DAYLIGHT
BEGIN:STANDARD
TZOFFSETFROM:-0700
TZOFFSETTO:-0800
TZNAME:PST
DTSTART:20241103T090000
END:STANDARD
END:VTIMEZONE
BEGIN:VEVENT
DTSTART;VALUE=DATE:20231031
DTEND;VALUE=DATE:20231101
DTSTAMP:20260423T233509
CREATED:20231012T145659Z
LAST-MODIFIED:20231012T145659Z
UID:1866-1698710400-1698796799@www.ocli.us
SUMMARY:The second session October 31 is currently open…we are working to find a replacement program
DESCRIPTION:
URL:https://www.ocli.us/index.php/event/the-second-session-october-31-is-currently-openwe-are-working-to-find-a-replacement-program/
END:VEVENT
BEGIN:VEVENT
DTSTART;VALUE=DATE:20231031
DTEND;VALUE=DATE:20231101
DTSTAMP:20260423T233509
CREATED:20231012T145614Z
LAST-MODIFIED:20231012T145614Z
UID:1864-1698710400-1698796799@www.ocli.us
SUMMARY:Addiction and Covid Response in Lincoln County -- Beckner\, Giliam\, Cisco\, Koschel
DESCRIPTION:Four people from the Lincoln County Health Dept. will provide an overview of what they do:  Jennifer Beckner\, addiction treatment services\, Callie Lamendola-Gilliam\, Covid; Isabelle Cisco\, Harm Reduction efforts related to Opioid Crisis\, Mary Jo Koschel\, Medication Assisted Treatment Program.
URL:https://www.ocli.us/index.php/event/addiction-and-covid-response-in-lincoln-county-beckner-giliam-cisco-koschel/
END:VEVENT
BEGIN:VEVENT
DTSTART;VALUE=DATE:20231024
DTEND;VALUE=DATE:20231025
DTSTAMP:20260423T233509
CREATED:20231012T145417Z
LAST-MODIFIED:20231012T145417Z
UID:1862-1698105600-1698191999@www.ocli.us
SUMMARY:OCLI Poetry Society and Friends – Alison Dennis\, Evelyn Brookhyser
DESCRIPTION:Members will read and discuss a passage from their favorite poem.
URL:https://www.ocli.us/index.php/event/ocli-poetry-society-and-friends-alison-dennis-evelyn-brookhyser/
END:VEVENT
BEGIN:VEVENT
DTSTART;VALUE=DATE:20231024
DTEND;VALUE=DATE:20231025
DTSTAMP:20260423T233509
CREATED:20231012T145306Z
LAST-MODIFIED:20231012T145306Z
UID:1860-1698105600-1698191999@www.ocli.us
SUMMARY:Thank you\, Paul Durand-Ruel for Discovering the Impressionists – Rosanne Berton
DESCRIPTION:Rosanne will provide the story of Durand-Ruel\, a Parisian art dealer who personally\, commercially\, financially\, and spiritually supported every Impressionist whose name and work we now take for granted as Great. You will explore the Impressionists as the story goes along.
URL:https://www.ocli.us/index.php/event/thank-you-paul-durand-ruel-for-discovering-the-impressionists-rosanne-berton/
END:VEVENT
BEGIN:VEVENT
DTSTART;VALUE=DATE:20231017
DTEND;VALUE=DATE:20231018
DTSTAMP:20260423T233509
CREATED:20231012T144946Z
LAST-MODIFIED:20231012T144946Z
UID:1858-1697500800-1697587199@www.ocli.us
SUMMARY:Living for a Year in Space: What Effect Does It Have on Your Body? – Donn Anderson
DESCRIPTION:Astronaut Scott Kelly spent almost a year in near weightlessness in orbit on the International Space Station while his identical twin Mark remained here on Earth. What have we learned about what that did to Scott’s body versus his twin brother Mark?
URL:https://www.ocli.us/index.php/event/living-for-a-year-in-space-what-effect-does-it-have-on-your-body-donn-anderson/
END:VEVENT
BEGIN:VEVENT
DTSTART;VALUE=DATE:20231017
DTEND;VALUE=DATE:20231018
DTSTAMP:20260423T233509
CREATED:20231012T144727Z
LAST-MODIFIED:20231012T144727Z
UID:1856-1697500800-1697587199@www.ocli.us
SUMMARY:Observing an Annular Eclipse – Sifan Kahale
DESCRIPTION:Join us as Sifan relates her story and experiences viewing the annular solar eclipse. She is traveling down to Klamath Falls to ‘hopefully’ have clear skies during the event. Come and find out if she was successful!
URL:https://www.ocli.us/index.php/event/observing-an-annular-eclipse-sifan-kahale/
END:VEVENT
BEGIN:VEVENT
DTSTART;VALUE=DATE:20231010
DTEND;VALUE=DATE:20231011
DTSTAMP:20260423T233509
CREATED:20231012T144501Z
LAST-MODIFIED:20231012T144501Z
UID:1854-1696896000-1696982399@www.ocli.us
SUMMARY:Oregon Shores/Coastwatch – Jesse Jones
DESCRIPTION:Oregon Shore’s mission is to preserve the ecosystems and landscapes of the Oregon Coast for the public interest. One popular program is Coast Watch in which volunteers adopt and monitor one-mile segments of the shoreline. Jesse Jones\, the manager of the Coast Watch Program\, will share the scope and benefits (and fun) of the program.
URL:https://www.ocli.us/index.php/event/oregon-shores-coastwatch-jesse-jones/
END:VEVENT
BEGIN:VEVENT
DTSTART;VALUE=DATE:20231010
DTEND;VALUE=DATE:20231011
DTSTAMP:20260423T233509
CREATED:20231012T144323Z
LAST-MODIFIED:20231012T144323Z
UID:1852-1696896000-1696982399@www.ocli.us
SUMMARY:Yakona Nature Preserve and Learning Center – Natalie Schaefer
DESCRIPTION:Yakona Nature Preserve & Learning Center provides education about resident wildlife\, exploration of Yaqo’n Indian history\, and opportunities for people of diverse backgrounds and lived experiences to witness nature as it once was on Oregon’s central coast.
URL:https://www.ocli.us/index.php/event/yakona-nature-preserve-and-learning-center-natalie-schaefer/
END:VEVENT
BEGIN:VEVENT
DTSTART;VALUE=DATE:20231003
DTEND;VALUE=DATE:20231004
DTSTAMP:20260423T233509
CREATED:20231012T144039Z
LAST-MODIFIED:20231012T144039Z
UID:1850-1696291200-1696377599@www.ocli.us
SUMMARY:Field Trip to Hatfield Marine Science Center
DESCRIPTION:Field Trip to Hatfield Marine Science Center: \n9:30 a.m. – Meet in the Marine Studies Building Lobby \nWelcome and short video about the Marine Studies Building (MSB) in the MSB Auditorium \n9:50-10:50 a.m. – Divide into two groups to tour the MSB  \nTour guides Doug Brusa (OSU Foundation) and MariAnna Hinjosa (HMSC Operations). The tour will include a stop at ILab to meet staff and ask questions plus a stop at the roof-top cache to see supplies  \n10:50-11:10 a.m. – Break \n11:10 a.m. – Big Fish Lab Talk in the Marine Studies Building Auditorium: \nThe Science of Sharks in Oregon and Around the World. \nSharks are often demonized as mindless predators. But\, in reality\, sharks are complex\, undertaking extensive migrations\, exhibiting intricate behaviors\, and maintaining marine systems\, especially here in Oregon. With 15 species commonly found off Oregon and nearly 500 globally\, sharks help to maintain the stability of the systems humans depend upon for food\, recreation\, and production. In Oregon\, this stability helps support vibrant fisheries and\, consequently\, the communities and economies dependent upon them. In the Big Fish Lab\, we work to understand shark behavior\, movements\, and physiology in Oregon and around the world. We will recap findings and lessons from decades of shark research and discuss the future of sharks and our oceans.
URL:https://www.ocli.us/index.php/event/field-trip-to-hatfield-marine-science-center/
END:VEVENT
BEGIN:VEVENT
DTSTART;VALUE=DATE:20230926
DTEND;VALUE=DATE:20230927
DTSTAMP:20260423T233509
CREATED:20231012T143531Z
LAST-MODIFIED:20231012T143606Z
UID:1848-1695686400-1695772799@www.ocli.us
SUMMARY:The Moon – Sifan Kahale
DESCRIPTION:Our “slanted” view of the moon\, what that means and how that creates effects like super moons\, annular or total eclipses\, king tides at different times in different places. Join us as Sifan explains some of the stranger aspects of the moon.
URL:https://www.ocli.us/index.php/event/the-moon-sifan-kahale/
END:VEVENT
BEGIN:VEVENT
DTSTART;VALUE=DATE:20230926
DTEND;VALUE=DATE:20230927
DTSTAMP:20260423T233509
CREATED:20231012T143419Z
LAST-MODIFIED:20231012T143419Z
UID:1846-1695686400-1695772799@www.ocli.us
SUMMARY:The Road to Graduation in LCSD – Majaliase Tolen\, Dr. Katie Barrett\, Elementary Director
DESCRIPTION:Learn about early literacy\, K-12 math alignment\, Career and Technical Education\, and post-secondary partnerships in LCSD.
URL:https://www.ocli.us/index.php/event/the-road-to-graduation-in-lcsd-majaliase-tolen-dr-katie-barrett-elementary-director/
END:VEVENT
BEGIN:VEVENT
DTSTART;VALUE=DATE:20230919
DTEND;VALUE=DATE:20230920
DTSTAMP:20260423T233509
CREATED:20231012T143101Z
LAST-MODIFIED:20231012T143101Z
UID:1844-1695081600-1695167999@www.ocli.us
SUMMARY:SKYLAB AT 50: Our First Space Station – Donn Anderson
DESCRIPTION:What to do after the Apollo Moon Missions ended? Repurpose hardware planned for cancelled Apollo missions into a gigantic for its time Earth orbiting Solar Observatory and Research Lab! Launched into orbit in May\, 1973\, Skylab was the beginning of humans living in low earth orbit that eventually led to the International Space Station. We’ll learn about Skylab’s development\, its severe damage at launch\, the heroic work astronauts did to save it\, the three different crews each staying longer than the last\, its triumph\, and its ultimate fate!
URL:https://www.ocli.us/index.php/event/skylab-at-50-our-first-space-station-donn-anderson/
END:VEVENT
BEGIN:VEVENT
DTSTART;VALUE=DATE:20230919
DTEND;VALUE=DATE:20230920
DTSTAMP:20260423T233509
CREATED:20231012T142903Z
LAST-MODIFIED:20231012T142903Z
UID:1842-1695081600-1695167999@www.ocli.us
SUMMARY:Jellyfish and Their Importance to Humans – Ric Brodeur
DESCRIPTION:Evidence from ecosystems around the world suggests that jellyfish blooms are increasing in terms of frequency and severity\, most likely due to human activities such as overfishing\, habitat modification\, and species introductions. Although jellyfish have some positive benefits to humans in terms of pharmaceutical and food production and the aquarium trade\, most of their impacts negatively affect human endeavors such as fishing\, tourism\, and power generation. Ric will discuss the evidence for increasing jellyfish populations and their potential impacts on fish and fisheries\, using examples in ecosystems around the world and attempts to control these populations or mitigate against their impacts.
URL:https://www.ocli.us/index.php/event/jellyfish-and-their-importance-to-humans-ric-brodeur/
END:VEVENT
BEGIN:VEVENT
DTSTART;VALUE=DATE:20230912
DTEND;VALUE=DATE:20230913
DTSTAMP:20260423T233509
CREATED:20231012T142644Z
LAST-MODIFIED:20231012T142644Z
UID:1840-1694476800-1694563199@www.ocli.us
SUMMARY:SMART Reading Program – Melissa MacCoumber\, Senior Program Manager\, NW Oregon
DESCRIPTION:SMART Reading is a non-profit volunteer-driven program designed for Oregon at-risk readers\, grades K-3. Volunteers read weekly with students\, modeling a love of reading and sparking joy through the magic of a book. Each child receives two books of his/her choice per month to add to the child’s at-home library. Ask Melissa the impact this program has made on the lives of children and volunteers.
URL:https://www.ocli.us/index.php/event/smart-reading-program-melissa-maccoumber-senior-program-manager-nw-oregon/
END:VEVENT
BEGIN:VEVENT
DTSTART;VALUE=DATE:20230912
DTEND;VALUE=DATE:20230913
DTSTAMP:20260423T233509
CREATED:20231012T142524Z
LAST-MODIFIED:20231012T142524Z
UID:1838-1694476800-1694563199@www.ocli.us
SUMMARY:Louis Southworth\, Waldport Pioneer – Joyce Sherman
DESCRIPTION:Louis Southworth came to Oregon as a slave when it was still illegal for a black person to live in Oregon. He purchased his freedom and became an important person in the shaping of Waldport. Learn more about blacks in Oregon and the life Louis Southworth led\, in spite of being in Oregon illegally.
URL:https://www.ocli.us/index.php/event/louis-southworth-waldport-pioneer-joyce-sherman/
END:VEVENT
BEGIN:VEVENT
DTSTART;VALUE=DATE:20230905
DTEND;VALUE=DATE:20230906
DTSTAMP:20260423T233509
CREATED:20231012T141619Z
LAST-MODIFIED:20231012T141809Z
UID:1835-1693872000-1693958399@www.ocli.us
SUMMARY:God\, Guns\, Gays\, and Affirmative Action - Brent Burford
DESCRIPTION:This first presentation of the term will look at some of the interesting recent and upcoming decisions of the U.S. Supreme Court. From the Harvard affirmative action case\, to the question of whether a business can deny service to same-sex couples\, to an upcoming case on the limits of the Second Amendment\, we will look at the background and issues of these cases. A question-and-answer period will follow.
URL:https://www.ocli.us/index.php/event/god-guns-gays-and-affirmative-action-brent-burford/
END:VEVENT
BEGIN:VEVENT
DTSTART;TZID=America/Los_Angeles:20230328T093000
DTEND;TZID=America/Los_Angeles:20230328T103000
DTSTAMP:20260423T233509
CREATED:20230206T170758Z
LAST-MODIFIED:20230206T170758Z
UID:1823-1679995800-1679999400@www.ocli.us
SUMMARY:Annual Meeting
DESCRIPTION:
URL:https://www.ocli.us/index.php/event/annual-meeting-2/
END:VEVENT
BEGIN:VEVENT
DTSTART;TZID=America/Los_Angeles:20230328T080000
DTEND;TZID=America/Los_Angeles:20230328T170000
DTSTAMP:20260423T233509
CREATED:20230206T170444Z
LAST-MODIFIED:20230206T170444Z
UID:1820-1679990400-1680022800@www.ocli.us
SUMMARY:Annual Meeting
DESCRIPTION:
URL:https://www.ocli.us/index.php/event/annual-meeting/
END:VEVENT
BEGIN:VEVENT
DTSTART;TZID=America/Los_Angeles:20230321T111000
DTEND;TZID=America/Los_Angeles:20230321T123000
DTSTAMP:20260423T233509
CREATED:20230104T195825Z
LAST-MODIFIED:20230206T165101Z
UID:1801-1679397000-1679401800@www.ocli.us
SUMMARY:Psilocybin in Oregon
DESCRIPTION:Presented by Angela Allbee
URL:https://www.ocli.us/index.php/event/psilocybin-in-oregon/
LOCATION:Chapel by the Sea\, 2125 SE Lee Avenue\, Lincoln City\, 97367
END:VEVENT
BEGIN:VEVENT
DTSTART;TZID=America/Los_Angeles:20230321T093000
DTEND;TZID=America/Los_Angeles:20230321T105000
DTSTAMP:20260423T233509
CREATED:20230206T165458Z
LAST-MODIFIED:20230206T165458Z
UID:1815-1679391000-1679395800@www.ocli.us
SUMMARY:David Douglas
DESCRIPTION:Presented by Rick Mark
URL:https://www.ocli.us/index.php/event/david-douglas/
LOCATION:Chapel by the Sea\, 2125 SE Lee Avenue\, Lincoln City\, 97367
END:VEVENT
BEGIN:VEVENT
DTSTART;TZID=America/Los_Angeles:20230314T111000
DTEND;TZID=America/Los_Angeles:20230314T123000
DTSTAMP:20260423T233509
CREATED:20230104T201435Z
LAST-MODIFIED:20230104T201435Z
UID:1811-1678792200-1678797000@www.ocli.us
SUMMARY:History of the Spruce Goose
DESCRIPTION:Presented by Bruce Bothwell
URL:https://www.ocli.us/index.php/event/history-of-the-spruce-goose/
LOCATION:Chapel by the Sea\, 2125 SE Lee Avenue\, Lincoln City\, 97367
END:VEVENT
BEGIN:VEVENT
DTSTART;TZID=America/Los_Angeles:20230307T111000
DTEND;TZID=America/Los_Angeles:20230307T123000
DTSTAMP:20260423T233509
CREATED:20230104T201147Z
LAST-MODIFIED:20230104T201238Z
UID:1809-1678187400-1678192200@www.ocli.us
SUMMARY:The Suffragettes
DESCRIPTION:Presented by Evelyn\, Gail\, Fanny and Kelly \nYou will get to know five ladies who created a way for women to vote. These women are not common household names. You will get to know them and their contributions to the suffrage story.
URL:https://www.ocli.us/index.php/event/the-suffragettes/
LOCATION:Chapel by the Sea\, 2125 SE Lee Avenue\, Lincoln City\, 97367
END:VEVENT
BEGIN:VEVENT
DTSTART;TZID=America/Los_Angeles:20230307T093000
DTEND;TZID=America/Los_Angeles:20230307T105000
DTSTAMP:20260423T233509
CREATED:20230104T200435Z
LAST-MODIFIED:20230104T200435Z
UID:1807-1678181400-1678186200@www.ocli.us
SUMMARY:Oregon History: Pre-Human through Oregon Trail
DESCRIPTION:Presented by Bob Setterberg
URL:https://www.ocli.us/index.php/event/oregon-history-pre-human-through-oregon-trail/
LOCATION:Chapel by the Sea\, 2125 SE Lee Avenue\, Lincoln City\, 97367
END:VEVENT
BEGIN:VEVENT
DTSTART;TZID=America/Los_Angeles:20230228T111000
DTEND;TZID=America/Los_Angeles:20230228T123000
DTSTAMP:20260423T233509
CREATED:20230104T200240Z
LAST-MODIFIED:20230104T200240Z
UID:1805-1677582600-1677587400@www.ocli.us
SUMMARY:Healthy Tips and Tamales
DESCRIPTION:Presented by Beatrice Botello
URL:https://www.ocli.us/index.php/event/healthy-tips-and-tamales/
LOCATION:Chapel by the Sea\, 2125 SE Lee Avenue\, Lincoln City\, 97367
END:VEVENT
BEGIN:VEVENT
DTSTART;TZID=America/Los_Angeles:20230228T093000
DTEND;TZID=America/Los_Angeles:20230228T105000
DTSTAMP:20260423T233509
CREATED:20230104T200039Z
LAST-MODIFIED:20230104T200039Z
UID:1803-1677576600-1677581400@www.ocli.us
SUMMARY:Mayan Culture
DESCRIPTION:Presented by John Daigle
URL:https://www.ocli.us/index.php/event/mayan-culture/
LOCATION:Chapel by the Sea\, 2125 SE Lee Avenue\, Lincoln City\, 97367
END:VEVENT
BEGIN:VEVENT
DTSTART;TZID=America/Los_Angeles:20230221T093000
DTEND;TZID=America/Los_Angeles:20230221T105000
DTSTAMP:20260423T233509
CREATED:20230206T170152Z
LAST-MODIFIED:20230206T170152Z
UID:1818-1676971800-1676976600@www.ocli.us
SUMMARY:I-400Japanese Secret Aircraft-Carrying Strike Sub
DESCRIPTION:Presented by Gary Nila
URL:https://www.ocli.us/index.php/event/i-400japanese-secret-aircraft-carrying-strike-sub/
LOCATION:Chapel by the Sea\, 2125 SE Lee Avenue\, Lincoln City\, 97367
END:VEVENT
BEGIN:VEVENT
DTSTART;TZID=America/Los_Angeles:20230207T111000
DTEND;TZID=America/Los_Angeles:20230207T123000
DTSTAMP:20260423T233509
CREATED:20230104T154759Z
LAST-MODIFIED:20230104T194219Z
UID:1791-1675768200-1675773000@www.ocli.us
SUMMARY:Our Ocean\, Our Coast\, Your Aquarium
DESCRIPTION:Presented by Dr. Kerry Carlin-Morgan and Molly Dumas \nWhat’s going on at the Aquarium? Construction projects updates and what’s new with exhibits.
URL:https://www.ocli.us/index.php/event/oregon-coast-aquirium/
END:VEVENT
BEGIN:VEVENT
DTSTART;TZID=America/Los_Angeles:20230207T093000
DTEND;TZID=America/Los_Angeles:20230207T105000
DTSTAMP:20260423T233509
CREATED:20230104T154353Z
LAST-MODIFIED:20230104T154353Z
UID:1789-1675762200-1675767000@www.ocli.us
SUMMARY:Frank Lloyd Wright
DESCRIPTION:Presented by Bud Varty
URL:https://www.ocli.us/index.php/event/frank-lloyd-wright/
END:VEVENT
BEGIN:VEVENT
DTSTART;TZID=America/Los_Angeles:20230124T093000
DTEND;TZID=America/Los_Angeles:20230124T105000
DTSTAMP:20260423T233509
CREATED:20230104T195259Z
LAST-MODIFIED:20230104T195359Z
UID:1799-1674552600-1674557400@www.ocli.us
SUMMARY:JFK Assassination
DESCRIPTION:Presented by Dr. Jay Cox \nHear about Dr. Jay Cox’s role as the Officer of the Day at Bethesda Naval Hospital on the day JFK’s body was brought in for autopsy.
URL:https://www.ocli.us/index.php/event/jfk-assassination/
LOCATION:Chapel by the Sea\, 2125 SE Lee Avenue\, Lincoln City\, 97367
END:VEVENT
BEGIN:VEVENT
DTSTART;TZID=America/Los_Angeles:20230117T111000
DTEND;TZID=America/Los_Angeles:20230117T123000
DTSTAMP:20260423T233509
CREATED:20230104T194714Z
LAST-MODIFIED:20230104T194714Z
UID:1797-1673953800-1673958600@www.ocli.us
SUMMARY:Sailing By Starlight
DESCRIPTION:Presented by Rod Scher \nIn the early 1980s\, retired geography professor Marvin Creamer set out to do something that hadn’t been done for 1000 years — if ever. He left his home in Cape May\, NJ and set out across the Atlantic in his 35′ sailboat\, determined to sail around the world\, using no instruments at all. Creamer had with him no sextant\, no LORAN\, not even a compass. Sailing by Starlight is the true story of how Marv and his crew sailed around the world using just their brains\, their skills\, their senses . . . and maybe a bit of luck.\n\nAuthor bio:\n\nRod Scher is a writer with many books and magazine articles to his credit. His books include Sailing by Starlight\, Leveling the Playing Field\, and annotations of Joshua Slocum’s classic Sailing Alone Around the World and Richard Henry Dana’s Two Years Before the Mast. Rod lives in Depoe Bay\, OR with his wife\, Lesley\, and spends much of the summer traveling the West Coast in a small motorhome.
URL:https://www.ocli.us/index.php/event/sailing-by-starlight/
LOCATION:Chapel by the Sea\, 2125 SE Lee Avenue\, Lincoln City\, 97367
END:VEVENT
END:VCALENDAR